BEGIN:VCALENDAR
VERSION:2.0
PRODID:-//wisdomvalleyedu.in - ECPv6.5.1.5//NONSGML v1.0//EN
CALSCALE:GREGORIAN
METHOD:PUBLISH
X-WR-CALNAME:wisdomvalleyedu.in
X-ORIGINAL-URL:https://wisdomvalleyedu.in
X-WR-CALDESC:Events for wisdomvalleyedu.in
REFRESH-INTERVAL;VALUE=DURATION:PT1H
X-Robots-Tag:noindex
X-PUBLISHED-TTL:PT1H
BEGIN:VTIMEZONE
TZID:UTC
BEGIN:STANDARD
TZOFFSETFROM:+0000
TZOFFSETTO:+0000
TZNAME:UTC
DTSTART:20240101T000000
END:STANDARD
END:VTIMEZONE
BEGIN:VEVENT
DTSTART;TZID=UTC:20240918T111500
DTEND;TZID=UTC:20240918T121500
DTSTAMP:20260422T105058
CREATED:20240917T131128Z
LAST-MODIFIED:20240917T131128Z
UID:2298-1726658100-1726661700@wisdomvalleyedu.in
SUMMARY:JOLLY PHONICS TEACHER TRAINING
DESCRIPTION:Date : 18.09.2024 to 27.09.2024 \nTime : 11:15 am to 12:15 pm
URL:https://wisdomvalleyedu.in/event/jolly-phonics-teacher-training-3/
CATEGORIES:Teacher,Trainer
END:VEVENT
END:VCALENDAR