BEGIN:VCALENDAR
VERSION:2.0
PRODID:-//wisdomvalleyedu.in - ECPv6.5.1.5//NONSGML v1.0//EN
CALSCALE:GREGORIAN
METHOD:PUBLISH
X-ORIGINAL-URL:https://wisdomvalleyedu.in
X-WR-CALDESC:Events for wisdomvalleyedu.in
REFRESH-INTERVAL;VALUE=DURATION:PT1H
X-Robots-Tag:noindex
X-PUBLISHED-TTL:PT1H
BEGIN:VTIMEZONE
TZID:UTC
BEGIN:STANDARD
TZOFFSETFROM:+0000
TZOFFSETTO:+0000
TZNAME:UTC
DTSTART:20240101T000000
END:STANDARD
END:VTIMEZONE
BEGIN:VEVENT
DTSTART;VALUE=DATE:20240722
DTEND;VALUE=DATE:20240801
DTSTAMP:20260422T155432
CREATED:20240720T120902Z
LAST-MODIFIED:20240720T123100Z
UID:2246-1721606400-1722470399@wisdomvalleyedu.in
SUMMARY:JOLLY PHONICS TEACHER TRAINING
DESCRIPTION:Who can attend??                                                                                 \n\n Parents who wants to teach your child.\n Teachers who wants to teach their kids.\n Trainers who want to update with new concepts.\n Home makers who wants to start their career as phonics trainer.\n Will provide guidance to start your own classes and academy.\n\nWhat you’ll learn and Benefits\n\nLearn from basic to advance.\nAll materials will be provided after completing course.\nAfter course completion certificate will be provided.\n\nTime and Date\n\nDuration: 8 Days\nTime: 12.00PM to 01.00PM\nDate: From 22 nd july to 31 st july\n\nPlatform\nZoom \nMode\nOnline
URL:https://wisdomvalleyedu.in/event/jolly-phonics-teacher-training/
CATEGORIES:Parent,Teacher,Trainer
ORGANIZER;CN="Wisdom Valley Institution":MAILTO:wisdomvalley23@gmail
END:VEVENT
END:VCALENDAR