BEGIN:VCALENDAR
VERSION:2.0
PRODID:-//wisdomvalleyedu.in - ECPv6.5.1.5//NONSGML v1.0//EN
CALSCALE:GREGORIAN
METHOD:PUBLISH
X-WR-CALNAME:wisdomvalleyedu.in
X-ORIGINAL-URL:https://wisdomvalleyedu.in
X-WR-CALDESC:Events for wisdomvalleyedu.in
REFRESH-INTERVAL;VALUE=DURATION:PT1H
X-Robots-Tag:noindex
X-PUBLISHED-TTL:PT1H
BEGIN:VTIMEZONE
TZID:UTC
BEGIN:STANDARD
TZOFFSETFROM:+0000
TZOFFSETTO:+0000
TZNAME:UTC
DTSTART:20240101T000000
END:STANDARD
END:VTIMEZONE
BEGIN:VEVENT
DTSTART;VALUE=DATE:20241104
DTEND;VALUE=DATE:20241115
DTSTAMP:20260422T092746
CREATED:20241102T155625Z
LAST-MODIFIED:20241102T155625Z
UID:2304-1730678400-1731628799@wisdomvalleyedu.in
SUMMARY:JOLLY GRAMMAR TEACHER TRAINING
DESCRIPTION:LEVEL 1 TO LEVEL 6 WILL BE COVERED \nSTARTS FROM NOVEMBER 4 TH TO 14 TH \nTIME: 11.15 AM TO 12.15 AM
URL:https://wisdomvalleyedu.in/event/jolly-grammar-teacher-training/
CATEGORIES:Teacher,Trainer
END:VEVENT
END:VCALENDAR